BEGIN:VCALENDAR
VERSION:2.0
PRODID:-//The Ink Shop Printmaking Center - ECPv6.15.17.1//NONSGML v1.0//EN
CALSCALE:GREGORIAN
METHOD:PUBLISH
X-WR-CALNAME:The Ink Shop Printmaking Center
X-ORIGINAL-URL:https://ink-shop.org
X-WR-CALDESC:Events for The Ink Shop Printmaking Center
REFRESH-INTERVAL;VALUE=DURATION:PT1H
X-Robots-Tag:noindex
X-PUBLISHED-TTL:PT1H
BEGIN:VTIMEZONE
TZID:America/New_York
BEGIN:DAYLIGHT
TZOFFSETFROM:-0500
TZOFFSETTO:-0400
TZNAME:EDT
DTSTART:20180311T070000
END:DAYLIGHT
BEGIN:STANDARD
TZOFFSETFROM:-0400
TZOFFSETTO:-0500
TZNAME:EST
DTSTART:20181104T060000
END:STANDARD
BEGIN:DAYLIGHT
TZOFFSETFROM:-0500
TZOFFSETTO:-0400
TZNAME:EDT
DTSTART:20190310T070000
END:DAYLIGHT
BEGIN:STANDARD
TZOFFSETFROM:-0400
TZOFFSETTO:-0500
TZNAME:EST
DTSTART:20191103T060000
END:STANDARD
BEGIN:DAYLIGHT
TZOFFSETFROM:-0500
TZOFFSETTO:-0400
TZNAME:EDT
DTSTART:20200308T070000
END:DAYLIGHT
BEGIN:STANDARD
TZOFFSETFROM:-0400
TZOFFSETTO:-0500
TZNAME:EST
DTSTART:20201101T060000
END:STANDARD
BEGIN:DAYLIGHT
TZOFFSETFROM:-0500
TZOFFSETTO:-0400
TZNAME:EDT
DTSTART:20210314T070000
END:DAYLIGHT
BEGIN:STANDARD
TZOFFSETFROM:-0400
TZOFFSETTO:-0500
TZNAME:EST
DTSTART:20211107T060000
END:STANDARD
BEGIN:DAYLIGHT
TZOFFSETFROM:-0500
TZOFFSETTO:-0400
TZNAME:EDT
DTSTART:20220313T070000
END:DAYLIGHT
BEGIN:STANDARD
TZOFFSETFROM:-0400
TZOFFSETTO:-0500
TZNAME:EST
DTSTART:20221106T060000
END:STANDARD
BEGIN:DAYLIGHT
TZOFFSETFROM:-0500
TZOFFSETTO:-0400
TZNAME:EDT
DTSTART:20230312T070000
END:DAYLIGHT
BEGIN:STANDARD
TZOFFSETFROM:-0400
TZOFFSETTO:-0500
TZNAME:EST
DTSTART:20231105T060000
END:STANDARD
END:VTIMEZONE
BEGIN:VEVENT
DTSTART;VALUE=DATE:20211203
DTEND;VALUE=DATE:20220115
DTSTAMP:20260422T224833
CREATED:20211026T161017Z
LAST-MODIFIED:20211026T193650Z
UID:4057-1638489600-1642204799@ink-shop.org
SUMMARY:Holiday Print Sale
DESCRIPTION:Holiday Print Sale \nThe Ink Shop has this annual print sale before the holidays. This year we combine our Print Sale with the 21st Mini Print Exhibit. Our collection of prints is extensive and represents some of the best printmakers around. Both the Ink Shop Print Sale and the Mini Print Exhibit prints are excellent and make great gifts. We are always encouraging people to support the Arts by buying more Art! \nAll Mini Print purchases can also be taken home the evening of the December 3rd reception or anytime afterwards.
URL:https://ink-shop.org/event/holiday-print-sale/
LOCATION:Ink Shop Printmaking Center Studio Gallery\, 330 E. State St.\, ITHACA\, NY\, 14850-8786\, United States
CATEGORIES:Exhibits
ATTACH;FMTTYPE=image/jpeg:https://ink-shop.org/wp-content/uploads/2019/11/TIS-52-e1635260972423.jpg
END:VEVENT
BEGIN:VEVENT
DTSTART;VALUE=DATE:20211104
DTEND;VALUE=DATE:20220128
DTSTAMP:20260422T224833
CREATED:20210422T190516Z
LAST-MODIFIED:20220215T192001Z
UID:3598-1636066800-1643327999@ink-shop.org
SUMMARY:21st Mini Print International Exhibit
DESCRIPTION:Exhibition duration:  November 5\, 2021 – January 27\, 2022 \nThe 21st Mini Print International is a juried exhibition of prints no larger than 4”x4”. A maximum of Four (4) original prints in any traditional or contemporary graphic process\,  including computer generated prints\, are accepted. The Exhibition has been held bi-annually since 1985 and was founded and directed by Bev McLean who sought to challenge artists and provide an affordable form in which international art could be brought together. The Ink Shop began organizing this exciting exhibit starting with 16th Mini Print International. Our recent Mini Print shows have attracted artists from Argentina\, Australia\, Brazil\, Canada\, Estonia\, Germany\, Italy\, Hungary\, Ireland\, Latvia\, Poland\, Japan\, Mexico\, New Zealand\, Thailand\, as well as many artists from the United States. \n  \n			\n				\n				\n				\n				\n				AwardsFirst Place Jim Pearson A Small Drama: RaptureSecond Place Kathleen Friedrich Looking Down llThird Place Thom O’Conner The SistersHonorable Mention Cleo Wilkinson Then VHonorable Mention H. M. Sprague You & IHonorable Mention Anne Auld First PersonHonorable Mention* Kathy Holmes Turas \n  \n*funding for additional prize provided by Dan Welden \n			\n				\n					\n					\n					\n				\n				\n					\n					\n					\n				\n				\n					\n					\n					\n				\n				\n					\n					\n					\n				\n				\n					\n					\n					\n				\n				\n					\n					\n					\n				\n				\n					\n					\n					\n				\n				\n					\n					\n					\n				\n				\n			\n				\n				\n				\n				\n			\n				\n				\n				\n				\n				\n				\n				\n				\n				\n				\n				Awards Juror:  Dan Welden has been a pioneer of alternative printmaking since 1970. Nationally and internationally recognized master printmaker\, he was the first artist to initiate Solarplate and waterbased monotype workshops\, placing him squarely in the vanguard of healthy and safe creative practice. We are very pleased to be hosting his new work in our current exhibit Aesop’s Fables (Color Sequel) \n			\n			\n				\n				\n				\n				\n				\n				\n				\n				\n				\n				\n			\n			\n				\n				\n				\n				\n			\n				\n				\n				\n				\n				\n				\n				\n				\n				\n				\n				 2021 Mini Print International Artists \nAnne Auld • Pat Bacon • Gerald Bailey • J. M. Barringer • Supit Boontham • Cynthia Cratsley • Debra Dudick • Colleen Dwire • Leslie Ford • Kathleen Friedrich • Colin Gillespie • Elizabeth Grantham • Nadia Holcomb • Kathy Holmes • Sarah Hopkins • Julianne Hunter • Robert Hunter • Rebecca Godin • Erin Ibo • Maria-Alejandra Icaza Paredes • Andre Kalenak • Isao Kobayashi • Sasja Lucas • Julia Ludwig • Bernadette Madden • Heidi Marschner • Judy Mensch • James Mullen • Yoshiaki Murakami • Thom O’Connor • Akiko Okajima • Barbara Ortelli Pin • Jim Pearson • DeAnn L. Prosia • Chaivut Ruamrudeekool • Mika Sakimoto • Victoria Savka • Sigrid Sperzel • H.M. Sprague • Oliver Stern • Yoshihiro Tsuji • Lara Vaienti • Lydia Waterman • Cleo Wilkinson • Christa Wolf • Joe Ziolkowski •
URL:https://ink-shop.org/event/21st-mini-print-international-exhibit/
LOCATION:NY
CATEGORIES:Exhibits
ATTACH;FMTTYPE=image/png:https://ink-shop.org/wp-content/uploads/2021/10/21st-Mini-Prirnt.png
END:VEVENT
BEGIN:VEVENT
DTSTART;VALUE=DATE:20210930
DTEND;VALUE=DATE:20211029
DTSTAMP:20260422T224833
CREATED:20210818T222701Z
LAST-MODIFIED:20220121T193816Z
UID:3872-1633042800-1635461999@ink-shop.org
SUMMARY:Dan Welden | Aesop's Fables (Color Sequel)
DESCRIPTION:The series “Aesop’s Fables” is a series of symbolic gestures which employ visual opposites\, including the hare and the tortoise and the grasshopper and the ant\, as metaphors for the Yin Yang philosophy. Resurrecting 50-year-old found zinc etching plates that had oxidized beyond redemption\, Welden created these black and white works which are a tour-de-force of formal\, yet enigmatic power. Making his own tools\, the artist employed drypoint lines\, salt etch\, ink\, paper and a press to subject the dilapidated plates to a maelstrom of mark-making gestures. \n“The Color Sequel” consists of a hybrid series of the same images\, augmented with acrylic\, watercolor and crayon. Sneak a peek at danwelden.com. \n			\n			\n				\n				\n				\n				\n			\n				\n				\n				\n				\n				\n				\n				\n				\n				\n				\n				Dan Welden has been a pioneer of alternative printmaking since 1970. Nationally and internationally recognized master printmaker\, he was the first artist to initiate Solarplate and waterbased monotype workshops\, placing him squarely in the vanguard of healthy and safe creative practice.  \n			\n			\n				\n				\n				\n				\n				\n				\n				\n				\n				\n				\n			\n			\n				\n				\n				\n				\n			\n				\n				\n				\n				\n				\n				\n				\n				\n				\n				\n				Welden is co-author of Printmaking in the Sun and producer of the film of the same title. He is the recipient of numerous awards\, including a Lifetime Achievement recognition from A/E foundation; a Professor Emeritus award from the Escuela de Beas Artes in Cuzco\, Peru\, and most recently a Pollock/Krasner Grant. Ninety-three solo exhibitions into Welden’s career\, the Cape Cod Museum of Art mounted a mammoth collaborative exhibition of his studio works on paper along with collaborations with Willem de Kooning\, Eric Fischl\, Kiki Smith and Dan Flavin\, to name but a few. He has been in 53 countries with numerous residencies including China\, Belgium\, New Zealand\, Cuba and Peru.
URL:https://ink-shop.org/event/dan-welden-aesops-fables-color-sequel/
LOCATION:NY
CATEGORIES:Exhibits
ATTACH;FMTTYPE=image/jpeg:https://ink-shop.org/wp-content/uploads/2021/08/Wolf-Ears.jpg
END:VEVENT
BEGIN:VEVENT
DTSTART;VALUE=DATE:20210805
DTEND;VALUE=DATE:20210925
DTSTAMP:20260422T224833
CREATED:20210805T205631Z
LAST-MODIFIED:20210818T224038Z
UID:3783-1628204400-1632524399@ink-shop.org
SUMMARY:2021 Member Exhibit Opening Reception
DESCRIPTION:Each year\, The Ink Shop launches a Members’ show\, giving our membership the opportunity to exhibit their newest work. This is always a popular show that gives the public the opportunity to see the new work coming out of The Ink Shop\, Central New York’s only community printmaking facility.
URL:https://ink-shop.org/event/2021-member-exhibit/
LOCATION:Ink Shop Printmaking Center Studio Gallery\, 330 E. State St.\, ITHACA\, NY\, 14850-8786\, United States
CATEGORIES:Exhibits
ATTACH;FMTTYPE=image/jpeg:https://ink-shop.org/wp-content/uploads/2021/08/Mellissa-Conroy_On-a-Collision-Coarse.jpg
END:VEVENT
BEGIN:VEVENT
DTSTART;VALUE=DATE:20210506
DTEND;VALUE=DATE:20210730
DTSTAMP:20260422T224833
CREATED:20210508T140011Z
LAST-MODIFIED:20210619T003731Z
UID:3664-1620342000-1627599599@ink-shop.org
SUMMARY:I See You (IC/CU) 2021
DESCRIPTION:Exhibit and Instagram Takeover\, May 7 to June 25\nThe Ink Shop is pleased to host the 6th joint show of prints by students of two strong printmaking programs at Ithaca College and Cornell University. We are starting this year’s exhibit virtually on May 7th as an Instagram Takeover.  \nPhysical exhibit opening on June 4th.\nThe fine art print possesses conceptual complexity which is deeply embedded in contemporary art practices. These prints explore aspects of this conversation\, questioning what prints are and how they function. These works are richly diverse with unique approaches using traditional methods\, ranging from beginner to advanced practitioners. Accessing a rich history of distributable and reproducible media\, these prints are placed square in our current digital moment and present questions both age-old and prescient. \nImportant Dates: May 7th – Instagram Takeover begins June 4th – Opening of physical exhibit July 29th – Exhibit closes
URL:https://ink-shop.org/event/i-see-you-ic-cu-2021/
LOCATION:NY
CATEGORIES:Exhibits
ATTACH;FMTTYPE=image/jpeg:https://ink-shop.org/wp-content/uploads/2021/05/iseeyou2021postcard.jpg
END:VEVENT
BEGIN:VEVENT
DTSTART;VALUE=DATE:20210506
DTEND;VALUE=DATE:20210929
DTSTAMP:20260422T224833
CREATED:20210218T165236Z
LAST-MODIFIED:20210928T160903Z
UID:3531-1620342000-1632869999@ink-shop.org
SUMMARY:21st Mini Print Call for Entry
DESCRIPTION:Cash Prize up to $500!\nThe 21st Mini Print International is a juried exhibition of prints no larger than 4”x4”. A maximum of four (4) original prints in any traditional or contemporary graphic process\, including computer generated prints\, will be accepted. Photographs are not admitted unless they are artistically manipulated by a graphic process. We accept submissions from all artists internationally\, 18 years or older. \nTo enter the exhibit\, please fill out the 21st Mini Print International Submission Form.(This will open in a new window in Google Forms) \n			\n				\n				\n				\n				\n				Important Dates: \nArrival Deadline: September 28 \, 2021Selection Notification: October 6\, 2021Opening Reception: November 5\, 2021\, 5pm – 8pm ESTExhibition duration: November 5\, 2021 – January 14\, 2022 \n \nPricing:• A $35 non-refundable entry fee for first submission must be included with application.• A $5 fee is required for each additional submission. \n \nFormat:• Maximum size of print must be 4” x 4” unmatted\, unframed.• Maximum size of paper must be 6” x 6”. \nUploading: • Photograph or scan your work.• Print must be 1000 pixels on the longest edge.• Name your files in the following format: \n          LastName-FirstInitial_title-of-print (Example: Smith-J_funny-bird.jpg) \n• Upload a .jpeg of your print to the Dropbox address link found in the 21st Mini Print Submission Form. \nShipping:All prints must be submitted both digitally and by mail for judging. Prints should arrive by Tuesday\, September 28\, 2021. Work that does not arrive by the deadline will not be accepted. Up to ten (10) duplicates of your prints may be included for sale. \nItems should be addressed to: \nThe Ink Shop Printmaking Center330 E. State St. (MLK\, Jr. St.) 2nd FloorIthaca\, NY 14850 USA(607) 277-3884 \n			\n			\n				\n				\n				\n				\n			\n				\n				\n				\n				\n				\n				\n				\n				\n				\n				\n				\n			\n			\n				\n				\n				\n				\n				\n				\n				\n				\n				\n				Awards Juror: Dan Welden \nDan Welden has been a pioneer of alternative printmaking since 1970. Nationally and internationally recognized master printmaker\, he was the first artist to initiate Solarplate and waterbased monotype workshops\, placing him squarely in the vanguard of healthy and safe creative practice.  \n			\n			\n				\n				\n				\n				\n			\n				\n				\n				\n				\n				\n				\n				\n				\n				\n				\n				Returns: \nYou may choose to donate your prints to the Ink Shop\, or we will return them to you. If you choose to have your prints returned\, please include self-addressed packaging for us to send your prints back to you. Return postage will be included with your application fee. \nReturn shipping fees are $5 to the United States and $16 internationally. Return packaging should be no larger than an A4 padded envelope and should have your return address written on it. Prints\, including work that was not accepted\, will be returned at the end of the exhibition. \nPayment:Fee for submission with return shipping cost will be included in your total.         \nFAQs: \nDoes the print have to be exactly “4 x 4”?No\, but the printed area needs to be 4″x 4″ or smaller\, no side larger than 4″ (10.16cm x 10.16cm) . The paper should be no larger than 6″ x 6″ or 15.24cm x 15.24cm. We may crop you image with your permission for the exhibit. If you are including a mat\, the mat outside dimensions must be exactly 6″ x 6″ or 15.24cm x 15.24cm. We will mat and frame all works for display. \nDo I send in original prints or a .jpeg?We are asking for both your original prints and application forms by September 28. \nDo I need to include a self-addressed envelope?No\, we will provide an envelope for return shipping. \nHow do I submit payment?Entry fees should be submitted via PayPal on our website once you’ve submitted your entry form. Return shipping will be billed via PayPal for print returns. United Sates residents payments can also be mad by check. In-person payments can be check\, cash or credit card.
URL:https://ink-shop.org/event/21st-mini-print-call-for-entry/
LOCATION:NY
CATEGORIES:Deadline,Events,Exhibits
ATTACH;FMTTYPE=image/png:https://ink-shop.org/wp-content/uploads/2021/02/Call-for-Entry-Banner-2021.png
END:VEVENT
BEGIN:VEVENT
DTSTART;VALUE=DATE:20210325
DTEND;VALUE=DATE:20210327
DTSTAMP:20260422T224833
CREATED:20210218T164515Z
LAST-MODIFIED:20210219T170243Z
UID:3529-1616713200-1616799599@ink-shop.org
SUMMARY:Kahn Family Fellowship Application Deadline
DESCRIPTION:The Ink Shop Printmaking Center offers an annual Fellowship Grant to a printmaker or book artist. The Fellowship\, funded in part from a generous contribution from the Kahn Family\, provides an artist with the time and resources to create a new body of work. The Fellow is granted a full year membership to The Ink Shop with 24/7 access to studio and equipment\, and is given the opportunity to present this work in a gallery show. \nThe next Fellowship begins May 5\, 2021 and ends January 28\, 2022.\nDeadline is March 26\, 2021.\nGrant recipients are notified by April 7\, 2021. \nFor more information and the application
URL:https://ink-shop.org/event/kahn-family-fellowship-application-deadline/
LOCATION:NY
CATEGORIES:Deadline,Events,Kahn Family Fellowship
ATTACH;FMTTYPE=image/jpeg:https://ink-shop.org/wp-content/uploads/2020/05/32072653282_c9a1c4dc6c_k.jpg
END:VEVENT
BEGIN:VEVENT
DTSTART;VALUE=DATE:20200903
DTEND;VALUE=DATE:20201031
DTSTAMP:20260422T224833
CREATED:20200612T184112Z
LAST-MODIFIED:20200825T002331Z
UID:2076-1599174000-1604098799@ink-shop.org
SUMMARY:Kaleb Hunkele | False Wall
DESCRIPTION:False Wall is a combination of materials\, process\, and prints. Two traditions inspire the patterns that make up these tiled prints: woven textiles and screen printed editions. Bringing the two together requires repetitive motion that results in repeating patterns and editions\, as many weavings and prints will do. These pieces\, made of found material cut to size and pattern-printed\, upend efficient regularity and instead rely on hand-painted backgrounds to bring irregularity to the changing movement of the body into the work. \nAs a printmaker\, I can’t refuse repetition and reproducible form outright. Still\, I do what I can to push against the disappearance of both authorship and the means of production that often go along with prints and textiles. False Wall invites you to a home where the processes of making and viewing come together not only as an encounter with still objects but rather\, colorful planes that convey both thought and feeling while reinterpreting tradition. \n\nThis pop-up exhibit will be visible from the sidewalk at Cayuga St. Gimme! 430 N Cayuga St\, Ithaca\, NY 14850\n\n 
URL:https://ink-shop.org/event/kaleb-hunkele-open-edition/
LOCATION:Gimme! Coffee – Cayuga St. Pop Up\, 403 N. Cayuga St.\, Ithaca\, NY
CATEGORIES:Exhibits
ATTACH;FMTTYPE=image/jpeg:https://ink-shop.org/wp-content/uploads/2020/06/Kaleb-Hunkele_False-Walls-scaled.jpg
END:VEVENT
BEGIN:VEVENT
DTSTART;VALUE=DATE:20200712
DTEND;VALUE=DATE:20200901
DTSTAMP:20260422T224833
CREATED:20200612T065106Z
LAST-MODIFIED:20200721T153234Z
UID:2050-1594580400-1598900399@ink-shop.org
SUMMARY:I See You (IC/CU) 2020
DESCRIPTION:The Ink Shop is pleased to host the 5th joint show of prints by students of two strong printmaking programs at Ithaca College and Cornell University. The fine art print possesses conceptual complexity which is deeply embedded in contemporary art practices. These prints explore aspects of this conversation\, questioning what prints are and how they function. These works are richly diverse with unique approaches using traditional methods\, ranging from beginner to advanced practitioners. Accessing a rich history of distributable and reproducible media\, these prints are placed square in our present\, digital moment and present questions both age-old and prescient.\nThis year we will host the I See You (IC/CU) Exhibit as an Instagram takeover! Starting Monday July 13th for the next month professors from Ithaca College and Cornell printmaking departments will be taking turns a week at a time posting student prints here for our virtual I See You exhibit. #printmaking #cornell #ithacaart #cornellaap #ithacacollegeartdepartment \n\n			\n				\n				\n				\n				\n				[instagram-feed]
URL:https://ink-shop.org/event/i-see-you-ic-cu-2020/
LOCATION:Ink Shop Printmaking Center Studio Gallery\, 330 E. State St.\, ITHACA\, NY\, 14850-8786\, United States
CATEGORIES:Exhibits
ATTACH;FMTTYPE=image/jpeg:https://ink-shop.org/wp-content/uploads/2020/06/iseeyou2020postcard.jpg
END:VEVENT
BEGIN:VEVENT
DTSTART;TZID=America/New_York:20200703T070000
DTEND;TZID=America/New_York:20210326T160000
DTSTAMP:20260422T224833
CREATED:20200717T182653Z
LAST-MODIFIED:20210305T193210Z
UID:2389-1593759600-1616774400@ink-shop.org
SUMMARY:Ink Shop Printmakers 20/20 Hindsight Portfolio
DESCRIPTION:Ink Shop Printmakers are taking part in creating a double exchange portfolio creating an edition of 21 prints to swap between Ink Shop member and to exchange work between Limerick Printmakers in Ireland and Ink Shop printmaker. All work will be exhibited together in both Ireland and the US and will become part of each studio’s permanent archive. The Ink Shop 20/20 Hindsight Portfolio exhibit can be seen by appointment at the Ink Shop Studio Gallery or in this virtual gallery put together by Olivia Pastella as part of series of Virtual Exihibits for Ithaca Gallery Night.
URL:https://ink-shop.org/event/ink-shop-printmakers-20-20-portfolio/
LOCATION:NY
CATEGORIES:Exhibits
ATTACH;FMTTYPE=image/jpeg:https://ink-shop.org/wp-content/uploads/2020/07/C.Mains_Enschede-Fireworks-Factory-Explosion.jpg
END:VEVENT
BEGIN:VEVENT
DTSTART;TZID=America/New_York:20200703T070000
DTEND;TZID=America/New_York:20210326T160000
DTSTAMP:20260422T224833
CREATED:20200612T205014Z
LAST-MODIFIED:20210218T170355Z
UID:2086-1593759600-1616774400@ink-shop.org
SUMMARY:Limerick Studio Printmakers | 20 Years of Change
DESCRIPTION:Following a successful joint project honoring the tenth anniversary of both studios in 2009/10\, Limerick Printmakers are collaborating once again with The Ink Shop on an ambitious print project. Each printmaker creating an edition of 21 prints\, with both studios receiving a full set of prints from each studio. The theme of ’20 Years of Change’ welcomes a wide set of interpretations and allows for diverse responses from participants. The project will feature up to 36 printmakers in total. All work will be exhibited together in both Ireland and the US in late 2020 and will become part of each studio’s permanent archive. The Limerick prints can be seen by appointment in the Ink Shop Studio Gallery and in this virtual gallery put together by Olivia Pastella as part of series of Virtual Exihibits for Ithaca Gallery Night.
URL:https://ink-shop.org/event/limerick-studio-printmakers-20-years-of-change/
LOCATION:NY
CATEGORIES:Exhibits
ATTACH;FMTTYPE=image/jpeg:https://ink-shop.org/wp-content/uploads/2020/06/Limerick-Printmakers.jpg
END:VEVENT
BEGIN:VEVENT
DTSTART;VALUE=DATE:20200623
DTEND;VALUE=DATE:20200731
DTSTAMP:20260422T224833
CREATED:20200611T070354Z
LAST-MODIFIED:20200721T154719Z
UID:1935-1592938800-1596135599@ink-shop.org
SUMMARY:Justin Greenwald | Clarity through Chaos
DESCRIPTION:The Ink Shop is excited to show the work of Justin Greenwald. This two month show was awarded to Justin as a prize won through the first juried Solarplate Triennial Exhibit in 2019. \nJustin Greenwald’s work includes drawings\, paintings and prints. Clarity through Chaos is an exhibit of his solarplate etchings and monotypes which are concerned with repetitive mark making. Justin uses numbers and equations and occasionally words in his prints. “I’ve been a very obsessive person since early on”\, says Justin. “It’s at once a gift and a disorder. The emotion and expressiveness behind the marks or lines is always evolving\, even within a single print or painting.” Justin finds the fickleness or ephemeral quality of the image lends to the recording of life’s timetable. \nA good number Justin’s prints are of a reductive nature\, where the metal backed polymer plate is coated with ink\, and then drawn into or scratched away at using a variety of tools\, including sticks\, twigs\, chopsticks\, pencils\, and rags\, before being processed or hardened in the sun or under a light box. Solarplate etching allows for photographic work\, although Justin prefers to draw. \nHis friend and employer Dan Welden\, who developed Solarplate etching in the 1970’s\, collaborated with him this past summer on a series of monotypes overlayed with one of two Solarplates\, of which six pieces are displayed in this exhibit. \nThe Solorplate Triennial was founded and organized by Dan Welden and the jury consisted of Laura Einstein\, manager of the Mezzanine Gallery at the Metropolitan Museum of Art; Alex Ferrone\, owner/director of the Alex Ferrone Gallery in Cutchogue\, NY; and Ron Pokrasso\, Santa Fe artist and world printmaking traveler. The awards juror is the acclaimed international artist Eric Fischl.
URL:https://ink-shop.org/event/justin-greenwald-clarity-through-chaos/
LOCATION:Ink Shop Printmaking Center Studio Gallery\, 330 E. State St.\, ITHACA\, NY\, 14850-8786\, United States
CATEGORIES:Exhibits
ATTACH;FMTTYPE=image/jpeg:https://ink-shop.org/wp-content/uploads/2020/06/Justin-Greenwald_Opportunity-1.jpg
END:VEVENT
BEGIN:VEVENT
DTSTART;TZID=America/New_York:20200228T190000
DTEND;TZID=America/New_York:20200329T180000
DTSTAMP:20260422T224833
CREATED:20201030T204446Z
LAST-MODIFIED:20201030T204805Z
UID:3235-1582916400-1585504800@ink-shop.org
SUMMARY:Reflexion at Galerie de la Ferme du Mousseau
DESCRIPTION:We are proud to announce the second part of this exchange exhibition dedicated to printmaking gathering works of Art Gravure SQY (Elancourt – France) and their guests : The ink Shop Printmaking Center Artists (Ithaca – NEW YORK – USA) and their President\, Craig MAINS. \nThe exhibit runs from February 28th to March 29th\, 2020 in “La Ferme Du Mousseau in Elancourt\, 78990\, France. It is organized by Art Gravure SQY with the help of the City of SAINT QUENTIN EN YVELINES and the town of ELANCOURT\, in collaboration with The Ink Shop Printmaking Center (ITHACA – NY – USA).\nIt aims to show the diversity of printmaking techniques in both countries and encourage their practice as well as building bridges between artists\, crossing boundaries.
URL:https://ink-shop.org/event/reflexion-france/
LOCATION:NY
CATEGORIES:Exhibits
ATTACH;FMTTYPE=image/jpeg:https://ink-shop.org/wp-content/uploads/2020/08/IMG_0929-scaled.jpg
END:VEVENT
BEGIN:VEVENT
DTSTART;VALUE=DATE:20191031
DTEND;VALUE=DATE:20200125
DTSTAMP:20260422T224833
CREATED:20200612T182109Z
LAST-MODIFIED:20200903T195722Z
UID:2069-1572562800-1579910399@ink-shop.org
SUMMARY:20/20 Hindsight | 20 years in Prints and Books
DESCRIPTION:20/20 Hindsight | 20 years in Prints and Books\nThe Ink Shop has exhibited the work of  artists/printmakers from all over the world\, and have taught and worked with a multitude of high school\, college and local artists to further printmaking and creativity. The 20th Anniversary exhibit celebrates two decades of printmaking. This show features Ink Shop artists\, fellows\, instructors\, students\,  plus printmakers from around the country who have created or shown with us.\n\n\nHindsight Portfolios: The Ink Shop celebrates its 20th Anniversary this Year! The Hindsight Portfolios exhibit will include current and past artists and printmakers\, fellows and exhibitors who participated in  portfolio exchanges over the years.\nHindsight Ephemera: Ephemera are items of collectible memorabilia\, typically written or printed ones\, that were originally expected to have only short-term usefulness or popularity. The Ink Shop will display selected posters\, postcards\, news and reviews covering the twenty years this local print studio has been offering artists and art lovers remarkable opportunities to make\, exhibit\, and experience quality examples of contemporary printmaking
URL:https://ink-shop.org/event/20-20-hindsight-20-years-in-prints-and-books/
LOCATION:NY
CATEGORIES:Exhibits
ATTACH;FMTTYPE=image/png:https://ink-shop.org/wp-content/uploads/2019/12/20-20_Hindsight-1.png
END:VEVENT
END:VCALENDAR